BEGIN:VCALENDAR
VERSION:2.0
PRODID:-//Järveküla kool - ECPv6.15.11//NONSGML v1.0//EN
CALSCALE:GREGORIAN
METHOD:PUBLISH
X-ORIGINAL-URL:https://jarvekyla.edu.ee
X-WR-CALDESC:Järveküla kool sündmused
REFRESH-INTERVAL;VALUE=DURATION:PT1H
X-Robots-Tag:noindex
X-PUBLISHED-TTL:PT1H
BEGIN:VTIMEZONE
TZID:Europe/Tallinn
BEGIN:DAYLIGHT
TZOFFSETFROM:+0200
TZOFFSETTO:+0300
TZNAME:EEST
DTSTART:20150329T010000
END:DAYLIGHT
BEGIN:STANDARD
TZOFFSETFROM:+0300
TZOFFSETTO:+0200
TZNAME:EET
DTSTART:20151025T010000
END:STANDARD
BEGIN:DAYLIGHT
TZOFFSETFROM:+0200
TZOFFSETTO:+0300
TZNAME:EEST
DTSTART:20160327T010000
END:DAYLIGHT
BEGIN:STANDARD
TZOFFSETFROM:+0300
TZOFFSETTO:+0200
TZNAME:EET
DTSTART:20161030T010000
END:STANDARD
BEGIN:DAYLIGHT
TZOFFSETFROM:+0200
TZOFFSETTO:+0300
TZNAME:EEST
DTSTART:20170326T010000
END:DAYLIGHT
BEGIN:STANDARD
TZOFFSETFROM:+0300
TZOFFSETTO:+0200
TZNAME:EET
DTSTART:20171029T010000
END:STANDARD
END:VTIMEZONE
BEGIN:VEVENT
DTSTART;TZID=Europe/Tallinn:20160217T100000
DTEND;TZID=Europe/Tallinn:20160331T200000
DTSTAMP:20260423T015247
CREATED:20160217T081737Z
LAST-MODIFIED:20160222T104545Z
UID:890-1455703200-1459454400@jarvekyla.edu.ee
SUMMARY:Alanud on vastuvõtt 1. klassi
DESCRIPTION:Järveküla Koolis avatakse vähemalt neli esimest klassi. Koolikohta saab taotleda internetis keskkonnas ARNO \, kust avaldus koolikoha saamiseks jõuab otse vallavalitsusse. Sooviavaldusi saab esitada 15. veebruarist 31. märtsini. \nVajadusel saab taotluse esitada vallavalitsusele paberkandjal. Pärast koolikoha määramist tuleb lapsevanemal esitada vajalikud dokumendid otse kooli. \nKoolikohustuslikust east noorema lapse seaduslik esindaja esitab paberkandjal taotluse Rae Vallavalitsusele käimasoleva aasta 1. maiks. \n\n 
URL:https://jarvekyla.edu.ee/sundmus/alanud-on-1-klassi-astumine/
END:VEVENT
END:VCALENDAR