BEGIN:VCALENDAR
VERSION:2.0
PRODID:-//Järveküla kool - ECPv6.15.11//NONSGML v1.0//EN
CALSCALE:GREGORIAN
METHOD:PUBLISH
X-ORIGINAL-URL:https://jarvekyla.edu.ee
X-WR-CALDESC:Järveküla kool sündmused
REFRESH-INTERVAL;VALUE=DURATION:PT1H
X-Robots-Tag:noindex
X-PUBLISHED-TTL:PT1H
BEGIN:VTIMEZONE
TZID:Europe/Tallinn
BEGIN:DAYLIGHT
TZOFFSETFROM:+0200
TZOFFSETTO:+0300
TZNAME:EEST
DTSTART:20150329T010000
END:DAYLIGHT
BEGIN:STANDARD
TZOFFSETFROM:+0300
TZOFFSETTO:+0200
TZNAME:EET
DTSTART:20151025T010000
END:STANDARD
BEGIN:DAYLIGHT
TZOFFSETFROM:+0200
TZOFFSETTO:+0300
TZNAME:EEST
DTSTART:20160327T010000
END:DAYLIGHT
BEGIN:STANDARD
TZOFFSETFROM:+0300
TZOFFSETTO:+0200
TZNAME:EET
DTSTART:20161030T010000
END:STANDARD
BEGIN:DAYLIGHT
TZOFFSETFROM:+0200
TZOFFSETTO:+0300
TZNAME:EEST
DTSTART:20170326T010000
END:DAYLIGHT
BEGIN:STANDARD
TZOFFSETFROM:+0300
TZOFFSETTO:+0200
TZNAME:EET
DTSTART:20171029T010000
END:STANDARD
END:VTIMEZONE
BEGIN:VEVENT
DTSTART;TZID=Europe/Tallinn:20160510T110000
DTEND;TZID=Europe/Tallinn:20160610T170000
DTSTAMP:20260422T214526
CREATED:20160510T165306Z
LAST-MODIFIED:20160603T095548Z
UID:985-1462878000-1465578000@jarvekyla.edu.ee
SUMMARY:Sisseastujate dokumentide esitamine
DESCRIPTION:Kuni 10. juunini esitab lapse seaduslik esindaja kooli astumiseks vajalikud dokumendid:\n\n1) sisseastuja isikut tõendava dokumendi (selle puudumisel sünnitunnistuse või -tõendi) ärakiri;\n2) vanema isikut tõendava dokumendi ärakiri;\n3) väljavõte õpilase tervisekaardist selle olemasolul;\n4) nõustamiskomisjoni otsus selle olemasolul;\n5) koolivalmiduskaart.\n\n\nVastuvõtuajad: \n6. – 9. juuni kell 15.00-17.00; \n10. juuni kell 12.00-14.00.
URL:https://jarvekyla.edu.ee/sundmus/985/
END:VEVENT
BEGIN:VEVENT
DTSTART;TZID=Europe/Tallinn:20160608T200000
DTEND;TZID=Europe/Tallinn:20160608T213000
DTSTAMP:20260422T214526
CREATED:20160520T073610Z
LAST-MODIFIED:20160520T073610Z
UID:1010-1465416000-1465421400@jarvekyla.edu.ee
SUMMARY:3. ja 4. klassid kohtuvad oma õpetajatega
DESCRIPTION:Ootame õpilasi ja lapsevanemaid esimesele kohtumisele Järveküla Kooli õpetajatega.  \nKoolielu korraldamine sügisvaheajani:\na) õppekava ja tunniplaan\nb) õpikud\, õpilaspiletid\nc) ehitus ja ruumide korraldus (garderoobid)\nd) toitlustus\ne) pikk päev\, ringid\nf) koostöö Rae Huvialakooliga\ng) liikluskorraldus\nh) küsimused-vastused\ni) jagunemine klasside kaupa – tutvumine klassijuhataja ja klassikaaslastega \nKohtumiseni!
URL:https://jarvekyla.edu.ee/sundmus/3-ja-4-klassid-kohtuvad-oma-opetajatega/
LOCATION:Rae Kultuurikeskus\, Aruküla tee 9
END:VEVENT
END:VCALENDAR