BEGIN:VCALENDAR
VERSION:2.0
PRODID:-//Järveküla kool - ECPv6.15.11//NONSGML v1.0//EN
CALSCALE:GREGORIAN
METHOD:PUBLISH
X-WR-CALNAME:Järveküla kool
X-ORIGINAL-URL:https://jarvekyla.edu.ee
X-WR-CALDESC:Järveküla kool sündmused
REFRESH-INTERVAL;VALUE=DURATION:PT1H
X-Robots-Tag:noindex
X-PUBLISHED-TTL:PT1H
BEGIN:VTIMEZONE
TZID:Europe/Tallinn
BEGIN:DAYLIGHT
TZOFFSETFROM:+0200
TZOFFSETTO:+0300
TZNAME:EEST
DTSTART:20150329T010000
END:DAYLIGHT
BEGIN:STANDARD
TZOFFSETFROM:+0300
TZOFFSETTO:+0200
TZNAME:EET
DTSTART:20151025T010000
END:STANDARD
BEGIN:DAYLIGHT
TZOFFSETFROM:+0200
TZOFFSETTO:+0300
TZNAME:EEST
DTSTART:20160327T010000
END:DAYLIGHT
BEGIN:STANDARD
TZOFFSETFROM:+0300
TZOFFSETTO:+0200
TZNAME:EET
DTSTART:20161030T010000
END:STANDARD
BEGIN:DAYLIGHT
TZOFFSETFROM:+0200
TZOFFSETTO:+0300
TZNAME:EEST
DTSTART:20170326T010000
END:DAYLIGHT
BEGIN:STANDARD
TZOFFSETFROM:+0300
TZOFFSETTO:+0200
TZNAME:EET
DTSTART:20171029T010000
END:STANDARD
END:VTIMEZONE
BEGIN:VEVENT
DTSTART;TZID=Europe/Tallinn:20160816T130000
DTEND;TZID=Europe/Tallinn:20160816T150000
DTSTAMP:20260422T190745
CREATED:20160811T100913Z
LAST-MODIFIED:20160815T080543Z
UID:1147-1471352400-1471359600@jarvekyla.edu.ee
SUMMARY:Stuudiumi kasutuselevõtu koolitus
DESCRIPTION:Stuudiumi koolitus õpetajatele ja administraatoritele toimub Jüri Gümnaasiumi ruumides.
URL:https://jarvekyla.edu.ee/sundmus/stuudiumi-kasutuselevotu-koolitus/
END:VEVENT
END:VCALENDAR