BEGIN:VCALENDAR
VERSION:2.0
PRODID:-//Järveküla kool - ECPv6.15.11//NONSGML v1.0//EN
CALSCALE:GREGORIAN
METHOD:PUBLISH
X-ORIGINAL-URL:https://jarvekyla.edu.ee
X-WR-CALDESC:Järveküla kool sündmused
REFRESH-INTERVAL;VALUE=DURATION:PT1H
X-Robots-Tag:noindex
X-PUBLISHED-TTL:PT1H
BEGIN:VTIMEZONE
TZID:Europe/Tallinn
BEGIN:DAYLIGHT
TZOFFSETFROM:+0200
TZOFFSETTO:+0300
TZNAME:EEST
DTSTART:20160327T010000
END:DAYLIGHT
BEGIN:STANDARD
TZOFFSETFROM:+0300
TZOFFSETTO:+0200
TZNAME:EET
DTSTART:20161030T010000
END:STANDARD
BEGIN:DAYLIGHT
TZOFFSETFROM:+0200
TZOFFSETTO:+0300
TZNAME:EEST
DTSTART:20170326T010000
END:DAYLIGHT
BEGIN:STANDARD
TZOFFSETFROM:+0300
TZOFFSETTO:+0200
TZNAME:EET
DTSTART:20171029T010000
END:STANDARD
BEGIN:DAYLIGHT
TZOFFSETFROM:+0200
TZOFFSETTO:+0300
TZNAME:EEST
DTSTART:20180325T010000
END:DAYLIGHT
BEGIN:STANDARD
TZOFFSETFROM:+0300
TZOFFSETTO:+0200
TZNAME:EET
DTSTART:20181028T010000
END:STANDARD
END:VTIMEZONE
BEGIN:VEVENT
DTSTART;TZID=Europe/Tallinn:20170127T093000
DTEND;TZID=Europe/Tallinn:20170213T170000
DTSTAMP:20260422T102011
CREATED:20170310T140307Z
LAST-MODIFIED:20170310T140307Z
UID:1864-1485509400-1487005200@jarvekyla.edu.ee
SUMMARY:Saksa keelt ja kultuuri tutvustavad üritused
DESCRIPTION:Kolmandad klassid peavad tegema otsuse\, millist võõrkeelt järgmisel aastal õppida. Kuidas saksa keelt tööelus vaja on läinud? Sellest räägivad märtsis Juhan Aguraiuja ja Sven Hinn\, kelle töö on seotud saksa energeetikafirma ja autode maailmaga. \nSuur kultuuriga tutvumise mäng 3.-5. klassidele toimub Goethe Instituudi eestvedamisel. Koos meie õpilastega mängivad mängu ka Loo kooli lapsed.
URL:https://jarvekyla.edu.ee/sundmus/saksa-keelt-ja-kultuuri-tutvustavad-uritused/
ATTACH;FMTTYPE=image/jpeg:https://jarvekyla.edu.ee/wp-content/uploads/2017/03/20160926_131432.jpg
END:VEVENT
BEGIN:VEVENT
DTSTART;TZID=Europe/Tallinn:20170208T190000
DTEND;TZID=Europe/Tallinn:20170208T210000
DTSTAMP:20260422T102011
CREATED:20170203T160038Z
LAST-MODIFIED:20170206T063150Z
UID:1794-1486580400-1486587600@jarvekyla.edu.ee
SUMMARY:Film "November ehk Rehepapp" linastub Järveküla Kooli aulas
DESCRIPTION:Rae Kultuurikeskus korraldab filmi “November ehk Rehepapp” näitamise kooli aulas.  Filmist lähemalt \nAndrus Kivirähki bestsellerist “Rehepapp” ainest saanud “November” on fantaasiafilm\, mis baseerub Eesti mütoloogial; siin on koos segu maagiast\, mustast huumorist ja romantilisest armastusest.\nTegevus toimub paganlikus Eesti külas\, kus liiguvad ringi libahundid\, katk ja vaimud. Külainimeste peamiseks mureks on\, kuidas elada üle külm ja pime talv. Varastatakse üksteise\, Saksa mõisnike\, vaimude\, kuradi ja Kristuse tagant. Et endal elu sees hoida\, antakse hing kratile – puust ja rauast olendile\, kes aitab peremehel rohkem varastada. Varastatakse ka siis\, kui aidad juba täis. Varastamine on muutunud ainsaks kinnisideeks ja külainimesed ise hingetuteks olenditeks\, kes meenutavad üha rohkem kratte.\nFilmi peategelane on noor talutüdruk Liina\, kes on armunud lootusetult ja õnnetult külapoiss Hansu. Igatsus paneb tüdruku jooksma libahunti ja hüppama jääkülma tiiki. Ta on valmis armastuse nimel surema. Pragmaatiliste talupoegade ette tõuseb küsimus: kas elu\, mis nii suure vaevaga kätte võideldud\, on üldse midagi väärt\, kui selles puudub hing.
URL:https://jarvekyla.edu.ee/sundmus/film-november-linastub-jarvekula-kooli-aulas/
ATTACH;FMTTYPE=image/jpeg:https://jarvekyla.edu.ee/wp-content/uploads/2016/01/16JJ1124029.jpg
END:VEVENT
END:VCALENDAR