BEGIN:VCALENDAR
VERSION:2.0
PRODID:-//Järveküla kool - ECPv6.15.11//NONSGML v1.0//EN
CALSCALE:GREGORIAN
METHOD:PUBLISH
X-WR-CALNAME:Järveküla kool
X-ORIGINAL-URL:https://jarvekyla.edu.ee
X-WR-CALDESC:Järveküla kool sündmused
REFRESH-INTERVAL;VALUE=DURATION:PT1H
X-Robots-Tag:noindex
X-PUBLISHED-TTL:PT1H
BEGIN:VTIMEZONE
TZID:Europe/Tallinn
BEGIN:DAYLIGHT
TZOFFSETFROM:+0200
TZOFFSETTO:+0300
TZNAME:EEST
DTSTART:20160327T010000
END:DAYLIGHT
BEGIN:STANDARD
TZOFFSETFROM:+0300
TZOFFSETTO:+0200
TZNAME:EET
DTSTART:20161030T010000
END:STANDARD
BEGIN:DAYLIGHT
TZOFFSETFROM:+0200
TZOFFSETTO:+0300
TZNAME:EEST
DTSTART:20170326T010000
END:DAYLIGHT
BEGIN:STANDARD
TZOFFSETFROM:+0300
TZOFFSETTO:+0200
TZNAME:EET
DTSTART:20171029T010000
END:STANDARD
BEGIN:DAYLIGHT
TZOFFSETFROM:+0200
TZOFFSETTO:+0300
TZNAME:EEST
DTSTART:20180325T010000
END:DAYLIGHT
BEGIN:STANDARD
TZOFFSETFROM:+0300
TZOFFSETTO:+0200
TZNAME:EET
DTSTART:20181028T010000
END:STANDARD
END:VTIMEZONE
BEGIN:VEVENT
DTSTART;TZID=Europe/Tallinn:20170210T080000
DTEND;TZID=Europe/Tallinn:20170331T170000
DTSTAMP:20260422T084801
CREATED:20170203T160705Z
LAST-MODIFIED:20170203T160705Z
UID:1797-1486713600-1490979600@jarvekyla.edu.ee
SUMMARY:Koolikoha taotluse esitamine 1. klassi
DESCRIPTION:Taotlusi 2017.–2018. õppeaastal Rae valla koolide 1. klassidesse saab esitada 10. veebruarist kuni 31. märtsini 2017 e-keskkonnas ARNO. E-keskkond \nKoolikoha saamise eelduseks on lapse elukoht Rae vallas 2017. aasta 1. veebruari seisuga. See\, milline kool lapsele määratakse\, sõltub kooli õppekohtade arvust ja vanemate soovidest.  Arvestatakse ka pere teiste laste õppimist samas koolis ja õpilase elukoha lähedust koolile.\n\nJärveküla Koolis avatakse viis esimest klassi.
URL:https://jarvekyla.edu.ee/sundmus/koolikoha-taotluse-esitamine-1-klassi/
END:VEVENT
BEGIN:VEVENT
DTSTART;TZID=Europe/Tallinn:20170316T080000
DTEND;TZID=Europe/Tallinn:20170316T170000
DTSTAMP:20260422T084801
CREATED:20170310T135332Z
LAST-MODIFIED:20170310T135332Z
UID:1862-1489651200-1489683600@jarvekyla.edu.ee
SUMMARY:Etluskonkurss
DESCRIPTION:Luuletusi kannavad ette 1.-6. klasside õpilased. Toimub kohtumine lastekirjanik Jaanus Vaiksooga\, kellelt ilmus värske luuleraamat.
URL:https://jarvekyla.edu.ee/sundmus/etluskonkurss/
ATTACH;FMTTYPE=image/jpeg:https://jarvekyla.edu.ee/wp-content/uploads/2016/08/J.-Vaiksoo-e1472675821396.jpg
END:VEVENT
END:VCALENDAR