BEGIN:VCALENDAR
VERSION:2.0
PRODID:-//Järveküla kool - ECPv6.15.11//NONSGML v1.0//EN
CALSCALE:GREGORIAN
METHOD:PUBLISH
X-WR-CALNAME:Järveküla kool
X-ORIGINAL-URL:https://jarvekyla.edu.ee
X-WR-CALDESC:Järveküla kool sündmused
REFRESH-INTERVAL;VALUE=DURATION:PT1H
X-Robots-Tag:noindex
X-PUBLISHED-TTL:PT1H
BEGIN:VTIMEZONE
TZID:Europe/Tallinn
BEGIN:DAYLIGHT
TZOFFSETFROM:+0200
TZOFFSETTO:+0300
TZNAME:EEST
DTSTART:20160327T010000
END:DAYLIGHT
BEGIN:STANDARD
TZOFFSETFROM:+0300
TZOFFSETTO:+0200
TZNAME:EET
DTSTART:20161030T010000
END:STANDARD
BEGIN:DAYLIGHT
TZOFFSETFROM:+0200
TZOFFSETTO:+0300
TZNAME:EEST
DTSTART:20170326T010000
END:DAYLIGHT
BEGIN:STANDARD
TZOFFSETFROM:+0300
TZOFFSETTO:+0200
TZNAME:EET
DTSTART:20171029T010000
END:STANDARD
BEGIN:DAYLIGHT
TZOFFSETFROM:+0200
TZOFFSETTO:+0300
TZNAME:EEST
DTSTART:20180325T010000
END:DAYLIGHT
BEGIN:STANDARD
TZOFFSETFROM:+0300
TZOFFSETTO:+0200
TZNAME:EET
DTSTART:20181028T010000
END:STANDARD
END:VTIMEZONE
BEGIN:VEVENT
DTSTART;TZID=Europe/Tallinn:20170606T080000
DTEND;TZID=Europe/Tallinn:20170820T170000
DTSTAMP:20260422T040449
CREATED:20170606T104437Z
LAST-MODIFIED:20170824T205119Z
UID:2137-1496736000-1503248400@jarvekyla.edu.ee
SUMMARY:Koolimaja on suveks suletud
DESCRIPTION:Koolimaja on suvevaheajaks suletud. Kohtumised leppige konkreetse isikuga kokku telefoni teel.
URL:https://jarvekyla.edu.ee/sundmus/koolimaja-suveks-suletud/
END:VEVENT
BEGIN:VEVENT
DTSTART;TZID=Europe/Tallinn:20170616T180000
DTEND;TZID=Europe/Tallinn:20170616T190000
DTSTAMP:20260422T040449
CREATED:20170524T143054Z
LAST-MODIFIED:20170524T143054Z
UID:2089-1497636000-1497639600@jarvekyla.edu.ee
SUMMARY:Uute esimeste klasside kohtumine kooliga
DESCRIPTION:Räägime 1. klassis õppimiseks vajalikest töövahenditest\, kohtume klassikaaslastega. Käime läbi olulised klassiruumid. Oodatud on tulevane koolilaps koos vanemaga.
URL:https://jarvekyla.edu.ee/sundmus/uute-esimeste-klasside-kohtumine-kooliga/
ATTACH;FMTTYPE=image/jpeg:https://jarvekyla.edu.ee/wp-content/uploads/2016/08/Aabits.jpg
END:VEVENT
END:VCALENDAR