BEGIN:VCALENDAR
VERSION:2.0
PRODID:-//Järveküla kool - ECPv6.15.11//NONSGML v1.0//EN
CALSCALE:GREGORIAN
METHOD:PUBLISH
X-WR-CALNAME:Järveküla kool
X-ORIGINAL-URL:https://jarvekyla.edu.ee
X-WR-CALDESC:Järveküla kool sündmused
REFRESH-INTERVAL;VALUE=DURATION:PT1H
X-Robots-Tag:noindex
X-PUBLISHED-TTL:PT1H
BEGIN:VTIMEZONE
TZID:Europe/Tallinn
BEGIN:DAYLIGHT
TZOFFSETFROM:+0200
TZOFFSETTO:+0300
TZNAME:EEST
DTSTART:20160327T010000
END:DAYLIGHT
BEGIN:STANDARD
TZOFFSETFROM:+0300
TZOFFSETTO:+0200
TZNAME:EET
DTSTART:20161030T010000
END:STANDARD
BEGIN:DAYLIGHT
TZOFFSETFROM:+0200
TZOFFSETTO:+0300
TZNAME:EEST
DTSTART:20170326T010000
END:DAYLIGHT
BEGIN:STANDARD
TZOFFSETFROM:+0300
TZOFFSETTO:+0200
TZNAME:EET
DTSTART:20171029T010000
END:STANDARD
BEGIN:DAYLIGHT
TZOFFSETFROM:+0200
TZOFFSETTO:+0300
TZNAME:EEST
DTSTART:20180325T010000
END:DAYLIGHT
BEGIN:STANDARD
TZOFFSETFROM:+0300
TZOFFSETTO:+0200
TZNAME:EET
DTSTART:20181028T010000
END:STANDARD
END:VTIMEZONE
BEGIN:VEVENT
DTSTART;VALUE=DATE:20170828
DTEND;VALUE=DATE:20170829
DTSTAMP:20260421T231718
CREATED:20170824T204935Z
LAST-MODIFIED:20170824T204935Z
UID:2234-1503878400-1503964799@jarvekyla.edu.ee
SUMMARY:Harjumaa haridusasutuste teabepäev
DESCRIPTION:Kella üheksast saab tutvuda koolimajaga. \nPäevakava: \n10.00-10.05                Tervitussõnad – Harju maavanem Ülle Rajasalu \n10.05-10.10                Tervitussõnad – Harjumaa Omavalitsuste Liidu juhatuse esimees Kaupo Rätsepp \n10.10-10.15                Tervitussõnad – Rae vallavalitsuse haridusvaldkonna abivallavanem Jens Vendel \n10.15-10.30                Järveküla koolist – Järveküla kooli direktor Mare Räis \n10.30-10.45                Ootused ja plaanid uuel õppeaastal ning uute liikmete tutvustus – Harjumaa   Koolijuhtide Ühendus \n10.45-11.00                Plaanid ja tegevused ning uute liikmete tutvustus – Harjumaa Alusharidusjuhtide Ühendus \n11.00-11.30                Õpilaste ühisüritused\, olümpiaadide korraldus ja ainesektsioonide tegevus õa-l 2017/ 2018 – Harjumaa Omavalitsuste Liidu haridusspetsialist Maria Mägar \n11.30-11.45                Õppeaasta alguse tervitus – Haridus- ja teadusminister Mailis Reps \nLÕUNA 11.45-12.10 \n12.10-12.30                Järelvalve tagasiside ja tehtud tööd – Harju Maavalitsuse haridus- ja sotsiaalosakonna juhataja Maris Liiders \n12.30-13.00                Reformi käigust HTM-is ja teenistuslik järelvalve – Haridus- ja Teadusministeeriumi välishindamisosakond Kristin Hollo \n12.30-13.00                Välishindamisest – Haridus- ja Teadusministeeriumi välishindamisosakond Hille Voolaid \n\n\n\n\nKoolijuhid\n\nAlusharidusjuhid\n\n\n\n13.00-13.15\n\nEksamite korraldusest – \nSA Innove Testide keskuse \njuhataja Rain Sannik\,\n\nMuudatused alushariduses õa-l 2017/ 2018 – Haridus- ja Teadusministeeriumi üldharidusosakonna peaspetsialist Tiina Peterson\n\n\n\n13.15-13.30\n\nÕpetajate ning koolijuhtide täienduskoolitusest – SA Innove Õpetaja ning koolijuhi täienduskoolituskeskuse juhataja Marju Aolaid\n\n\n\n13.30-14.00\n\nEksamite korralduse tehnilisest poolest ja uuendustest \nRajaleidjas – SA Innove Põhja-Eesti Rajaleidja keskuse juhataja Urve Sellenberg\n\nLasteaedade koostöövõimalused Maanteeametiga – Maanteeameti ennetustöö osakon-na ekspert Eve-Mai Valdna\n\n\n\n14.00\n\nJooksvad küsimused ja teabepäeva lõpetamine
URL:https://jarvekyla.edu.ee/sundmus/harjumaa-haridusasutuste-teabepaev/
END:VEVENT
END:VCALENDAR