BEGIN:VCALENDAR
VERSION:2.0
PRODID:-//Järveküla kool - ECPv6.15.11//NONSGML v1.0//EN
CALSCALE:GREGORIAN
METHOD:PUBLISH
X-WR-CALNAME:Järveküla kool
X-ORIGINAL-URL:https://jarvekyla.edu.ee
X-WR-CALDESC:Järveküla kool sündmused
REFRESH-INTERVAL;VALUE=DURATION:PT1H
X-Robots-Tag:noindex
X-PUBLISHED-TTL:PT1H
BEGIN:VTIMEZONE
TZID:Europe/Tallinn
BEGIN:DAYLIGHT
TZOFFSETFROM:+0200
TZOFFSETTO:+0300
TZNAME:EEST
DTSTART:20160327T010000
END:DAYLIGHT
BEGIN:STANDARD
TZOFFSETFROM:+0300
TZOFFSETTO:+0200
TZNAME:EET
DTSTART:20161030T010000
END:STANDARD
BEGIN:DAYLIGHT
TZOFFSETFROM:+0200
TZOFFSETTO:+0300
TZNAME:EEST
DTSTART:20170326T010000
END:DAYLIGHT
BEGIN:STANDARD
TZOFFSETFROM:+0300
TZOFFSETTO:+0200
TZNAME:EET
DTSTART:20171029T010000
END:STANDARD
BEGIN:DAYLIGHT
TZOFFSETFROM:+0200
TZOFFSETTO:+0300
TZNAME:EEST
DTSTART:20180325T010000
END:DAYLIGHT
BEGIN:STANDARD
TZOFFSETFROM:+0300
TZOFFSETTO:+0200
TZNAME:EET
DTSTART:20181028T010000
END:STANDARD
END:VTIMEZONE
BEGIN:VEVENT
DTSTART;VALUE=DATE:20171108
DTEND;VALUE=DATE:20171109
DTSTAMP:20260421T203938
CREATED:20171107T150217Z
LAST-MODIFIED:20171107T150217Z
UID:2592-1510099200-1510185599@jarvekyla.edu.ee
SUMMARY:Isadepäeva tähistame ühistegevustega
DESCRIPTION:Seekordne isadepäev keskendub ühistegevustele. Lapsed ja isad saavad uusi teamisi ning võimaluse kätt harjutada koodikirjutamises\, digimuusika loomises\, teaduskatsetes\, loovkirjutamnises\, tikkimises\, teatevõistluses\, lauatennises ja paljus muus. Isadepäeva töötubadega alustame 17.15. \nAatriumis ja koolimaja koridorides on väljas näitused õpilastöödest.  Neid on uudistama oodatud kõik vanemad. Näitused on avatud kooli sünnipäeva tähistamiseni 10. novembril. \n 
URL:https://jarvekyla.edu.ee/sundmus/isadepaeva-tahistame-uhistegevustega/
ATTACH;FMTTYPE=image/jpeg:https://jarvekyla.edu.ee/wp-content/uploads/2017/11/IMG-0452.jpg
END:VEVENT
END:VCALENDAR