BEGIN:VCALENDAR
VERSION:2.0
PRODID:-//Järveküla kool - ECPv6.15.11//NONSGML v1.0//EN
CALSCALE:GREGORIAN
METHOD:PUBLISH
X-WR-CALNAME:Järveküla kool
X-ORIGINAL-URL:https://jarvekyla.edu.ee
X-WR-CALDESC:Järveküla kool sündmused
REFRESH-INTERVAL;VALUE=DURATION:PT1H
X-Robots-Tag:noindex
X-PUBLISHED-TTL:PT1H
BEGIN:VTIMEZONE
TZID:Europe/Tallinn
BEGIN:DAYLIGHT
TZOFFSETFROM:+0200
TZOFFSETTO:+0300
TZNAME:EEST
DTSTART:20160327T010000
END:DAYLIGHT
BEGIN:STANDARD
TZOFFSETFROM:+0300
TZOFFSETTO:+0200
TZNAME:EET
DTSTART:20161030T010000
END:STANDARD
BEGIN:DAYLIGHT
TZOFFSETFROM:+0200
TZOFFSETTO:+0300
TZNAME:EEST
DTSTART:20170326T010000
END:DAYLIGHT
BEGIN:STANDARD
TZOFFSETFROM:+0300
TZOFFSETTO:+0200
TZNAME:EET
DTSTART:20171029T010000
END:STANDARD
BEGIN:DAYLIGHT
TZOFFSETFROM:+0200
TZOFFSETTO:+0300
TZNAME:EEST
DTSTART:20180325T010000
END:DAYLIGHT
BEGIN:STANDARD
TZOFFSETFROM:+0300
TZOFFSETTO:+0200
TZNAME:EET
DTSTART:20181028T010000
END:STANDARD
END:VTIMEZONE
BEGIN:VEVENT
DTSTART;TZID=Europe/Tallinn:20171110T080000
DTEND;TZID=Europe/Tallinn:20171110T170000
DTSTAMP:20260421T204009
CREATED:20171107T151120Z
LAST-MODIFIED:20171107T152416Z
UID:2596-1510300800-1510333200@jarvekyla.edu.ee
SUMMARY:Mardipäeval on kooli 1. sünnipäev
DESCRIPTION:Aasta tagasi tuldi mardilauluga algkooli majast põhikooli majja. Meil oli lõpuks oma söökla\, laborid\, spordisaalid\, riietusruumid\, õppeköök ja palju muudki põnevat. See on päev\, mida otsustasime tähistada kooli sünnipäevana. 10. novembrit alustame klassidele ühise torditegemisega ja neljanda tunni ajal toimub aktus.
URL:https://jarvekyla.edu.ee/sundmus/mardipaeval-kooli-1-sunnipaev/
ATTACH;FMTTYPE=image/jpeg:https://jarvekyla.edu.ee/wp-content/uploads/2016/03/nurgakivi.jpg
END:VEVENT
END:VCALENDAR