BEGIN:VCALENDAR
VERSION:2.0
PRODID:-//Järveküla kool - ECPv6.15.11//NONSGML v1.0//EN
CALSCALE:GREGORIAN
METHOD:PUBLISH
X-ORIGINAL-URL:https://jarvekyla.edu.ee
X-WR-CALDESC:Järveküla kool sündmused
REFRESH-INTERVAL;VALUE=DURATION:PT1H
X-Robots-Tag:noindex
X-PUBLISHED-TTL:PT1H
BEGIN:VTIMEZONE
TZID:Europe/Tallinn
BEGIN:DAYLIGHT
TZOFFSETFROM:+0200
TZOFFSETTO:+0300
TZNAME:EEST
DTSTART:20160327T010000
END:DAYLIGHT
BEGIN:STANDARD
TZOFFSETFROM:+0300
TZOFFSETTO:+0200
TZNAME:EET
DTSTART:20161030T010000
END:STANDARD
BEGIN:DAYLIGHT
TZOFFSETFROM:+0200
TZOFFSETTO:+0300
TZNAME:EEST
DTSTART:20170326T010000
END:DAYLIGHT
BEGIN:STANDARD
TZOFFSETFROM:+0300
TZOFFSETTO:+0200
TZNAME:EET
DTSTART:20171029T010000
END:STANDARD
BEGIN:DAYLIGHT
TZOFFSETFROM:+0200
TZOFFSETTO:+0300
TZNAME:EEST
DTSTART:20180325T010000
END:DAYLIGHT
BEGIN:STANDARD
TZOFFSETFROM:+0300
TZOFFSETTO:+0200
TZNAME:EET
DTSTART:20181028T010000
END:STANDARD
END:VTIMEZONE
BEGIN:VEVENT
DTSTART;TZID=Europe/Tallinn:20171207T093000
DTEND;TZID=Europe/Tallinn:20171207T163000
DTSTAMP:20260421T191206
CREATED:20171122T165145Z
LAST-MODIFIED:20171122T165158Z
UID:2682-1512639000-1512664200@jarvekyla.edu.ee
SUMMARY:Inseneeria teemapäev
DESCRIPTION:Järveküla Koolis toimuv teemapäev aitab kaasa teadus- ja tehnoloogiapakti eesmärkide saavutamisele. \nTeemapäev toob esmakordselt kokku kõik osapooled\, kellest sõltub meie inseneride järelkasv\, hariduse andmine ning innustavate töökohtade olemasolu. Koos kaardistame\, millised on probleemid inseneriameti populariseerimises\, valdkonna hariduses ning insenerina töötamises erinevate sihtrühmade nägemuses. Me ei tegele ainult probleemidega – kaardistatud väljakutsete alusel jõuame päeva jooksul ka lahendusideede väljapakkumiseni ning selleni\, milliste ideedega liikuda edasi. \nOsalema on oodatud:\nLasteaedade juhid ja õpetajad\, üldhariduskoolide juhid ja õpetajad (eriti klassiõpetajad\, loodus- ja reaalainete ning tehnoloogiaõpetuse õpetajad)\, kutsekoolide juhid ja õpetajad\, kõrgkoolide ja ülikoolide juhid ja õppejõud\, huvihariduse pakkujad\, ettevõtjad\, personali- ja turundusjuhid\, insenerid\, erialaliitude esindajad\, lapsevanemad\, karjäärinõustajad\, teaduse populariseerijad\, tudengid\, gümnaasiumiõpilased\, kohalike omavalitsuste ja organisatsioonide esindajad ning kõik teised\, kes valdkonna tuleviku pärast südant valutavad. \nVt lähemalt inseneeria teemapäev. 
URL:https://jarvekyla.edu.ee/sundmus/inseneeria-teemapaev/
ATTACH;FMTTYPE=image/jpeg:https://jarvekyla.edu.ee/wp-content/uploads/2017/11/IMGP0521.jpg
END:VEVENT
END:VCALENDAR