BEGIN:VCALENDAR
VERSION:2.0
PRODID:-//Järveküla kool - ECPv6.15.11//NONSGML v1.0//EN
CALSCALE:GREGORIAN
METHOD:PUBLISH
X-ORIGINAL-URL:https://jarvekyla.edu.ee
X-WR-CALDESC:Järveküla kool sündmused
REFRESH-INTERVAL;VALUE=DURATION:PT1H
X-Robots-Tag:noindex
X-PUBLISHED-TTL:PT1H
BEGIN:VTIMEZONE
TZID:Europe/Tallinn
BEGIN:DAYLIGHT
TZOFFSETFROM:+0200
TZOFFSETTO:+0300
TZNAME:EEST
DTSTART:20150329T010000
END:DAYLIGHT
BEGIN:STANDARD
TZOFFSETFROM:+0300
TZOFFSETTO:+0200
TZNAME:EET
DTSTART:20151025T010000
END:STANDARD
BEGIN:DAYLIGHT
TZOFFSETFROM:+0200
TZOFFSETTO:+0300
TZNAME:EEST
DTSTART:20160327T010000
END:DAYLIGHT
BEGIN:STANDARD
TZOFFSETFROM:+0300
TZOFFSETTO:+0200
TZNAME:EET
DTSTART:20161030T010000
END:STANDARD
BEGIN:DAYLIGHT
TZOFFSETFROM:+0200
TZOFFSETTO:+0300
TZNAME:EEST
DTSTART:20170326T010000
END:DAYLIGHT
BEGIN:STANDARD
TZOFFSETFROM:+0300
TZOFFSETTO:+0200
TZNAME:EET
DTSTART:20171029T010000
END:STANDARD
END:VTIMEZONE
BEGIN:VEVENT
DTSTART;TZID=Europe/Tallinn:20160815T110000
DTEND;TZID=Europe/Tallinn:20160815T200000
DTSTAMP:20260422T173950
CREATED:20160815T152638Z
LAST-MODIFIED:20160815T152638Z
UID:1176-1471258800-1471291200@jarvekyla.edu.ee
SUMMARY:Õpetajad alustasid tööd
DESCRIPTION:Rae Kultuurikeskuses kohtus tööaasta avaüritusele kogu koolipere\, kuhu täna kuulub üle 40 inimese. Saadi ülevaade ehitamise hetkeseisust\, õpikufondist\, IT-lahendustest\, toitlustuse korraldusest. Jaguneti  meeskondadesse ainekavade ja kooli dokumentatsiooni koostamiseks. Sekka vahetati muljeid suvest. Oli taaskohtumise rõõmu ja uute tutvuste loomist. Oma tervitussõnad lausus abivallavanem Jens Vendel. Kool kerkib ju paljude osapoolte ühistööna.
URL:https://jarvekyla.edu.ee/sundmus/opetajad-alustasid-tood/
ATTACH;FMTTYPE=image/jpeg:https://jarvekyla.edu.ee/wp-content/uploads/2015/05/Tulevane-Järveküla-Põhikool-1-h.jpg
END:VEVENT
BEGIN:VEVENT
DTSTART;TZID=Europe/Tallinn:20160815T130000
DTEND;TZID=Europe/Tallinn:20160815T150000
DTSTAMP:20260422T173950
CREATED:20160811T093121Z
LAST-MODIFIED:20160820T093547Z
UID:1141-1471266000-1471273200@jarvekyla.edu.ee
SUMMARY:Koolipere alustab tööd
DESCRIPTION:Järveküla Kooli kollektiivi avaseminar Jüris Rae Kultuurikeskuses Aruküla tee 9.
URL:https://jarvekyla.edu.ee/sundmus/koolipere-alustab-tood/
ATTACH;FMTTYPE=image/jpeg:https://jarvekyla.edu.ee/wp-content/uploads/2016/08/Arvutikoolitus-2.jpg
END:VEVENT
BEGIN:VEVENT
DTSTART;TZID=Europe/Tallinn:20160816T130000
DTEND;TZID=Europe/Tallinn:20160816T150000
DTSTAMP:20260422T173950
CREATED:20160811T100913Z
LAST-MODIFIED:20160815T080543Z
UID:1147-1471352400-1471359600@jarvekyla.edu.ee
SUMMARY:Stuudiumi kasutuselevõtu koolitus
DESCRIPTION:Stuudiumi koolitus õpetajatele ja administraatoritele toimub Jüri Gümnaasiumi ruumides.
URL:https://jarvekyla.edu.ee/sundmus/stuudiumi-kasutuselevotu-koolitus/
END:VEVENT
BEGIN:VEVENT
DTSTART;TZID=Europe/Tallinn:20160820T110000
DTEND;TZID=Europe/Tallinn:20160825T200000
DTSTAMP:20260422T173950
CREATED:20160820T101357Z
LAST-MODIFIED:20160820T101719Z
UID:1222-1471690800-1472155200@jarvekyla.edu.ee
SUMMARY:Ootame pikapäevarühmaga liitumise taotlusi
DESCRIPTION:Taotluse ja info pikapäeva kohta leiate rubriigist lapsevanemale.
URL:https://jarvekyla.edu.ee/sundmus/ootame-pikapaevaruhmaga-liitumise-taotlusi/
END:VEVENT
BEGIN:VEVENT
DTSTART;TZID=Europe/Tallinn:20160822T130000
DTEND;TZID=Europe/Tallinn:20160822T160000
DTSTAMP:20260422T173950
CREATED:20160820T063435Z
LAST-MODIFIED:20160820T063435Z
UID:1203-1471870800-1471881600@jarvekyla.edu.ee
SUMMARY:Õpetajate koolituspäev
DESCRIPTION:Õpetajate koolituspäeva aitavad sisukaks muuta Margo Loor\, kes on liitunud meiega sisutiimi ühe juhina ja Eesti Teadusagentuuris teaduse populariseerimisega tegelev  Signe Ambre. Pärast lõunat jätkame kooli dokumentatsiooniga.
URL:https://jarvekyla.edu.ee/sundmus/opetajate-koolituspaev/
ATTACH;FMTTYPE=image/jpeg:https://jarvekyla.edu.ee/wp-content/uploads/2016/08/15.08.16-õpetajad-2.jpg
END:VEVENT
END:VCALENDAR