BEGIN:VCALENDAR
VERSION:2.0
PRODID:-//Järveküla kool - ECPv6.15.11//NONSGML v1.0//EN
CALSCALE:GREGORIAN
METHOD:PUBLISH
X-ORIGINAL-URL:https://jarvekyla.edu.ee
X-WR-CALDESC:Järveküla kool sündmused
REFRESH-INTERVAL;VALUE=DURATION:PT1H
X-Robots-Tag:noindex
X-PUBLISHED-TTL:PT1H
BEGIN:VTIMEZONE
TZID:Europe/Tallinn
BEGIN:DAYLIGHT
TZOFFSETFROM:+0200
TZOFFSETTO:+0300
TZNAME:EEST
DTSTART:20160327T010000
END:DAYLIGHT
BEGIN:STANDARD
TZOFFSETFROM:+0300
TZOFFSETTO:+0200
TZNAME:EET
DTSTART:20161030T010000
END:STANDARD
BEGIN:DAYLIGHT
TZOFFSETFROM:+0200
TZOFFSETTO:+0300
TZNAME:EEST
DTSTART:20170326T010000
END:DAYLIGHT
BEGIN:STANDARD
TZOFFSETFROM:+0300
TZOFFSETTO:+0200
TZNAME:EET
DTSTART:20171029T010000
END:STANDARD
BEGIN:DAYLIGHT
TZOFFSETFROM:+0200
TZOFFSETTO:+0300
TZNAME:EEST
DTSTART:20180325T010000
END:DAYLIGHT
BEGIN:STANDARD
TZOFFSETFROM:+0300
TZOFFSETTO:+0200
TZNAME:EET
DTSTART:20181028T010000
END:STANDARD
END:VTIMEZONE
BEGIN:VEVENT
DTSTART;TZID=Europe/Tallinn:20170410T080000
DTEND;TZID=Europe/Tallinn:20170413T170000
DTSTAMP:20260422T054119
CREATED:20170411T051747Z
LAST-MODIFIED:20170411T051747Z
UID:1961-1491811200-1492102800@jarvekyla.edu.ee
SUMMARY:Vaheaeg
DESCRIPTION:Koolimajja pääseb vaheajal kaardi alusel. Maja on külalistele avatud kella 10.00- 14.00. Helistage tel 55535784.
URL:https://jarvekyla.edu.ee/sundmus/vaheaeg/
ATTACH;FMTTYPE=image/jpeg:https://jarvekyla.edu.ee/wp-content/uploads/2016/01/16JJ1107_014_fotoJarekJõepera.jpg
END:VEVENT
BEGIN:VEVENT
DTSTART;VALUE=DATE:20170425
DTEND;VALUE=DATE:20170501
DTSTAMP:20260422T054119
CREATED:20170428T183841Z
LAST-MODIFIED:20170428T183841Z
UID:2029-1493078400-1493596799@jarvekyla.edu.ee
SUMMARY:Stuudiumis on avatud registreerimine perematkale
DESCRIPTION:Seekord on plaanis minna rongiga Aegviitu. Registreeru Stuudiumis!
URL:https://jarvekyla.edu.ee/sundmus/stuudiumis-avatud-registreerimine-perematkale/
END:VEVENT
BEGIN:VEVENT
DTSTART;VALUE=DATE:20170426
DTEND;VALUE=DATE:20170505
DTSTAMP:20260422T054119
CREATED:20170428T051515Z
LAST-MODIFIED:20170428T051515Z
UID:1998-1493164800-1493942399@jarvekyla.edu.ee
SUMMARY:Parima ujumisoskusega klass
DESCRIPTION:Järveküla Kool osaleb ujumisliidu kampaanias\, mille eesmärk on selgitada välja parima ujumisoskusega klass\, kuid selle kõrval pigem motiveerida õpilasi ujuma õppima\, teadvustada ujumisoskuse vajalikkust ja selgitada\, mida tähendab “ujumisoskus”. \nKampaania kodulehekülg
URL:https://jarvekyla.edu.ee/sundmus/parima-ujumisoskusega-klass/
ATTACH;FMTTYPE=image/jpeg:https://jarvekyla.edu.ee/wp-content/uploads/2016/01/16JJ1124016.jpg
END:VEVENT
END:VCALENDAR