BEGIN:VCALENDAR
VERSION:2.0
PRODID:-//Järveküla kool - ECPv6.15.11//NONSGML v1.0//EN
CALSCALE:GREGORIAN
METHOD:PUBLISH
X-WR-CALNAME:Järveküla kool
X-ORIGINAL-URL:https://jarvekyla.edu.ee
X-WR-CALDESC:Järveküla kool sündmused
REFRESH-INTERVAL;VALUE=DURATION:PT1H
X-Robots-Tag:noindex
X-PUBLISHED-TTL:PT1H
BEGIN:VTIMEZONE
TZID:Europe/Tallinn
BEGIN:DAYLIGHT
TZOFFSETFROM:+0200
TZOFFSETTO:+0300
TZNAME:EEST
DTSTART:20160327T010000
END:DAYLIGHT
BEGIN:STANDARD
TZOFFSETFROM:+0300
TZOFFSETTO:+0200
TZNAME:EET
DTSTART:20161030T010000
END:STANDARD
BEGIN:DAYLIGHT
TZOFFSETFROM:+0200
TZOFFSETTO:+0300
TZNAME:EEST
DTSTART:20170326T010000
END:DAYLIGHT
BEGIN:STANDARD
TZOFFSETFROM:+0300
TZOFFSETTO:+0200
TZNAME:EET
DTSTART:20171029T010000
END:STANDARD
BEGIN:DAYLIGHT
TZOFFSETFROM:+0200
TZOFFSETTO:+0300
TZNAME:EEST
DTSTART:20180325T010000
END:DAYLIGHT
BEGIN:STANDARD
TZOFFSETFROM:+0300
TZOFFSETTO:+0200
TZNAME:EET
DTSTART:20181028T010000
END:STANDARD
END:VTIMEZONE
BEGIN:VEVENT
DTSTART;VALUE=DATE:20170901
DTEND;VALUE=DATE:20170902
DTSTAMP:20260421T220109
CREATED:20170821T181945Z
LAST-MODIFIED:20170821T181945Z
UID:2220-1504224000-1504310399@jarvekyla.edu.ee
SUMMARY:1. septembri aktused
DESCRIPTION:Kõik 2. – 7. klassi õpilased on oodatud kooli hiljemalt 8.45\, et klassiruumis koguneda ja koos klassijuhatajaga aktusele minna. \n1. klass koguneb oma klassis 10.45\, et siis koos klassijuhatajaga aktusele minna. Vanemad liiguvad pärast lapse viimist klassiruumi aulasse.
URL:https://jarvekyla.edu.ee/sundmus/1-septembri-aktused/
END:VEVENT
BEGIN:VEVENT
DTSTART;TZID=Europe/Tallinn:20170913T083000
DTEND;TZID=Europe/Tallinn:20170913T130000
DTSTAMP:20260421T220109
CREATED:20170912T132424Z
LAST-MODIFIED:20170912T132424Z
UID:2298-1505291400-1505307600@jarvekyla.edu.ee
SUMMARY:Noor ujuja Kregor Zirk Järveküla Koolis
DESCRIPTION:Õpilastele toimub näidistund 2.a klassi õpilastega. Aulas kohtutakse 1.- ja 2. klassi õpilastega.
URL:https://jarvekyla.edu.ee/sundmus/noor-ujuja-kregor-zirk-jarvekula-koolis/
ATTACH;FMTTYPE=image/jpeg:https://jarvekyla.edu.ee/wp-content/uploads/2016/01/16JJ1124005.jpg
END:VEVENT
BEGIN:VEVENT
DTSTART;TZID=Europe/Tallinn:20170919T180000
DTEND;TZID=Europe/Tallinn:20170919T193000
DTSTAMP:20260421T220109
CREATED:20170919T115632Z
LAST-MODIFIED:20170919T120354Z
UID:2310-1505844000-1505849400@jarvekyla.edu.ee
SUMMARY:Lastevanemate koosolek 2.-3. klassid
DESCRIPTION:
URL:https://jarvekyla.edu.ee/sundmus/lastevanemate-koosolek-2-3-klass/
END:VEVENT
BEGIN:VEVENT
DTSTART;TZID=Europe/Tallinn:20170920T180000
DTEND;TZID=Europe/Tallinn:20170920T193000
DTSTAMP:20260421T220109
CREATED:20170919T115835Z
LAST-MODIFIED:20170919T120055Z
UID:2312-1505930400-1505935800@jarvekyla.edu.ee
SUMMARY:Lastevanemate koosolek 4.-7. klassid
DESCRIPTION:
URL:https://jarvekyla.edu.ee/sundmus/lastevanemate-koosolek-4-7-klassid/
END:VEVENT
BEGIN:VEVENT
DTSTART;TZID=Europe/Tallinn:20170921T180000
DTEND;TZID=Europe/Tallinn:20170921T193000
DTSTAMP:20260421T220109
CREATED:20170919T120024Z
LAST-MODIFIED:20170920T142242Z
UID:2314-1506016800-1506022200@jarvekyla.edu.ee
SUMMARY:Lastevanemate koosolek 1. klassid
DESCRIPTION:
URL:https://jarvekyla.edu.ee/sundmus/lastevanemate-koosolek-1-klassid/
END:VEVENT
BEGIN:VEVENT
DTSTART;TZID=Europe/Tallinn:20170925T080000
DTEND;TZID=Europe/Tallinn:20170925T170000
DTSTAMP:20260421T220109
CREATED:20170922T102903Z
LAST-MODIFIED:20170925T131930Z
UID:2420-1506326400-1506358800@jarvekyla.edu.ee
SUMMARY:Spordinädal
DESCRIPTION:Spordinädal \n  \nEsmaspäev 25.09 \n\n ja 3. tund – Discgolf 5.-7. klassile\n\n\nkogunemine spordisaalis ja sealt edasi liigume õue\nspordiriided selga\n\nKolmapäev 27.09 \n\n ja 2. tund – Jalgpallur Joseph Salistega kohtumine 3.-4. klassiga\n\n\nräägime jalgpallist ja profispordist\nteatevõistlused\nspordiriided selga\n\nReedel 29.09 \n\n tund – Teatevõistlused 2. klass\n tund – Teatevõistlused 1. klass\n\n\nspordiriided selga\n\n  \n\nVäikse maja stendile on oodatud pildid teemal “Mina sportimas”\, et teha kõigile nähtavaks\, kui sportlikud me oleme.\n\n  \n 
URL:https://jarvekyla.edu.ee/sundmus/spordinadal/
ATTACH;FMTTYPE=image/png:https://jarvekyla.edu.ee/wp-content/uploads/2017/09/240px-Sport_balls.svg_.png
END:VEVENT
BEGIN:VEVENT
DTSTART;VALUE=DATE:20170926
DTEND;VALUE=DATE:20170927
DTSTAMP:20260421T220109
CREATED:20170920T142721Z
LAST-MODIFIED:20170920T142721Z
UID:2404-1506384000-1506470399@jarvekyla.edu.ee
SUMMARY:Euroopa keeltepäev (Soome 100)
DESCRIPTION:
URL:https://jarvekyla.edu.ee/sundmus/euroopa-keeltepaev-soome-100/
ATTACH;FMTTYPE=image/png:https://jarvekyla.edu.ee/wp-content/uploads/2016/08/Soome-lipp.png
END:VEVENT
END:VCALENDAR