BEGIN:VCALENDAR
VERSION:2.0
PRODID:-//Järveküla kool - ECPv6.15.11//NONSGML v1.0//EN
CALSCALE:GREGORIAN
METHOD:PUBLISH
X-WR-CALNAME:Järveküla kool
X-ORIGINAL-URL:https://jarvekyla.edu.ee
X-WR-CALDESC:Järveküla kool sündmused
REFRESH-INTERVAL;VALUE=DURATION:PT1H
X-Robots-Tag:noindex
X-PUBLISHED-TTL:PT1H
BEGIN:VTIMEZONE
TZID:Europe/Tallinn
BEGIN:DAYLIGHT
TZOFFSETFROM:+0200
TZOFFSETTO:+0300
TZNAME:EEST
DTSTART:20160327T010000
END:DAYLIGHT
BEGIN:STANDARD
TZOFFSETFROM:+0300
TZOFFSETTO:+0200
TZNAME:EET
DTSTART:20161030T010000
END:STANDARD
BEGIN:DAYLIGHT
TZOFFSETFROM:+0200
TZOFFSETTO:+0300
TZNAME:EEST
DTSTART:20170326T010000
END:DAYLIGHT
BEGIN:STANDARD
TZOFFSETFROM:+0300
TZOFFSETTO:+0200
TZNAME:EET
DTSTART:20171029T010000
END:STANDARD
BEGIN:DAYLIGHT
TZOFFSETFROM:+0200
TZOFFSETTO:+0300
TZNAME:EEST
DTSTART:20180325T010000
END:DAYLIGHT
BEGIN:STANDARD
TZOFFSETFROM:+0300
TZOFFSETTO:+0200
TZNAME:EET
DTSTART:20181028T010000
END:STANDARD
END:VTIMEZONE
BEGIN:VEVENT
DTSTART;TZID=Europe/Tallinn:20171005T083000
DTEND;TZID=Europe/Tallinn:20171005T140000
DTSTAMP:20260421T204007
CREATED:20171003T123800Z
LAST-MODIFIED:20171003T123800Z
UID:2461-1507192200-1507212000@jarvekyla.edu.ee
SUMMARY:Õpetajate päeva tähistamine
DESCRIPTION:Õpetajate päeva alustame ühise koolipere kontserdiga aulas. Õppetunnid lõppevad kell 13.00. Kooli huviringe sellel päeval ei toimu.
URL:https://jarvekyla.edu.ee/sundmus/opetajate-paeva-tahistamine/
ATTACH;FMTTYPE=image/jpeg:https://jarvekyla.edu.ee/wp-content/uploads/2017/06/18882289_937107469763069_9039883045244851785_n.jpg
END:VEVENT
BEGIN:VEVENT
DTSTART;VALUE=DATE:20171017
DTEND;VALUE=DATE:20171018
DTSTAMP:20260421T204007
CREATED:20171011T133016Z
LAST-MODIFIED:20171011T133756Z
UID:2483-1508198400-1508284799@jarvekyla.edu.ee
SUMMARY:Koodimurdmise päev
DESCRIPTION:Üleeuroopalise programmeerimisnädala Code Week raames toimub 17. oktoobril 3. tunni ajal Kahoot viktoriin (1.-3. klassidele) ja 5. tunni ajal Actionbound seiklusmäng (4.-7. klassidele). Iga klass paneb välja 1-2 neljaliikmelist võistkonda. Mõlemal võistlusel pannakse proovile õpilaste loogika ja programmeerimisega seotud teadmised.
URL:https://jarvekyla.edu.ee/sundmus/koodimurdmise-paev/
ATTACH;FMTTYPE=image/png:https://jarvekyla.edu.ee/wp-content/uploads/2017/10/code.png
END:VEVENT
BEGIN:VEVENT
DTSTART;VALUE=DATE:20171021
DTEND;VALUE=DATE:20171030
DTSTAMP:20260421T204007
CREATED:20171016T145924Z
LAST-MODIFIED:20171016T150842Z
UID:2506-1508544000-1509321599@jarvekyla.edu.ee
SUMMARY:Vaheaeg on 21.-29. oktoobrini
DESCRIPTION:Reedel on tavaline koolipäev. \nKoolivaheajal\, 21.10 – 29.10.2017 on liinidel R1\, R2\, R3\, R4\, R5\, R6\, R7\, R8\, R9\, R10\, R11 ja R12 teenus peatatud. Alates 30.10.2017 sõidavad bussid koolipäeva sõiduplaanide alusel www.peatus.ee . \nKoolipere on seotud koolitustega ja koolimaja on avatud kell 9.00- 14.00. Sisse pääseb peauksest kaardiga või administraatorile helistades.
URL:https://jarvekyla.edu.ee/sundmus/vaheaeg-21-29-oktoobril/
ATTACH;FMTTYPE=image/png:https://jarvekyla.edu.ee/wp-content/uploads/2016/08/541a.png
END:VEVENT
BEGIN:VEVENT
DTSTART;TZID=Europe/Tallinn:20171031T083000
DTEND;TZID=Europe/Tallinn:20171031T150000
DTSTAMP:20260421T204007
CREATED:20171029T162314Z
LAST-MODIFIED:20171029T162921Z
UID:2552-1509438600-1509462000@jarvekyla.edu.ee
SUMMARY:Halloweeni stiilipäev
DESCRIPTION:
URL:https://jarvekyla.edu.ee/sundmus/halloweeni-stiilipaev/
ATTACH;FMTTYPE=image/jpeg:https://jarvekyla.edu.ee/wp-content/uploads/2017/10/download.jpg
END:VEVENT
END:VCALENDAR